BEGIN:VCALENDAR
VERSION:2.0
PRODID:spatie/icalendar-generator
BEGIN:VTIMEZONE
TZID:UTC
BEGIN:STANDARD
DTSTART:20250727T000000
TZOFFSETFROM:+0000
TZOFFSETTO:+0000
END:STANDARD
END:VTIMEZONE
BEGIN:VEVENT
UID:69ebb16494331
DTSTAMP:20260424T180732Z
SUMMARY:Klubblisten LIVE!
DESCRIPTION:BITCRUSHR
LOCATION:Like It A Lot Radio\, Klubblisten
DTSTART:20260423T000000Z
DTEND:20260423T235959Z
END:VEVENT
END:VCALENDAR